Workbook
Name DC: sheet2!$FA$517:$FH$597
Name grade: sheet2!$FY$502:$GA$581
Name labor: sheet2!$GJ$504:$GJ$525
Name new_service: sheet2!$FT$502:$FU$542
Name old_ins: sheet2!$FK$502:$FO$542
Name old_service: sheet2!$FQ$502:$FR$542
Name salary: sheet2!$FW$502:$FY$581

Sheet Sheet1
B1: =sheet2!FA501 -> 私立學校退撫儲金試算表 | G1: 114.1.1製
B2: 輸入個人資料與假設 | F2: 退休金試算結果
B3: =sheet2!FA502 -> 參加儲金薪額 | F3: =sheet2!FF508 -> 項目 | G3: =sheet2!FG508 -> 金額（新台幣：元）
B4: 建議參加儲金薪額 | C4: ="高中 / 大學教師：" & sheet2!FB513 & " / " & sheet2!FC513 -> 高中 / 大學教師：410 / 525 | F4: =sheet2!FF509 -> 一次給付 | G4: =sheet2!FG509 -> 3909355.2
B5: =sheet2!FA504 -> 舊制年資(98.12.31以前年資) | F5: =sheet2!FF510 -> 舊制部分 | G5: =sheet2!FG510 -> 991620
B6: (年) | C6: (月) | F6: =sheet2!FF511 -> 儲金部分 | G6: =sheet2!FG511 -> 2917735.2
B7: =sheet2!FB504 -> 9 | C7: =sheet2!FC504 -> 5 | F7: =sheet2!EW505 -> 定期給付： 每年領取金額 = 一次給付金額*0.05。例如：一次給付金額為3,909,355元，則每年領取金額=3,909,355元*0.05=195,468元。 註1：定期給付之計算方式是在設算利率2%，期末領取及領取期間25年等假設下所進行之估算。 註2：本表之試算結果是依所輸入之個人資料及假設計算而得，不代表退休時實際領取金額。 註3：退休金實際領取金額須視實際工作年資、提撥金額、收益率及年金保險商品而定，如需詳細說明，請電洽儲金管理會(02-23962880)。
B9: =sheet2!FA505 -> 預計儲金年資(99.1.1以後年資)
B10: (年) | C10: (月)
B11: =sheet2!FB505 -> 20 | C11: =sheet2!FC505 -> 7
B13: =sheet2!FD503 -> 推算退休最後薪額 | C13: =CONCATENATE(sheet2!FE503," 元：",sheet2!FE504) -> 625 元：54160
B15: =sheet2!FA503 -> 本職最高薪額
B16: (不低於原參加儲金薪額)
B18: =sheet2!FA506 -> 預計年收益率(%) | C18: =sheet2!FC506*100 -> 0
B20: 法定提撥率 | C20: 0.12
B22: 依公務人員俸額表(114.1.1生效) | E22: 說明：安全性層級須設為中級，請在EXCEL［工具］、［選項］下，［安全性］標籤內［巨集安全性］中選取。
B23: 本試算表僅供參考，實際金額以核定為準

Sheet sheet2
FW500: 114年
FA501: 私立學校退撫儲金試算表 | FB501: 330元：35010 | FK501: 88/5/31(含)以前公保年資(實際須減2個月) | FL501: 實際年資 | FM501: 整年資給付月數 | FN501: 畸零月數給付標準(分子) | FO501: 實際給付月數 | FQ501: 私校舊制年資 | FR501: 基數 | FT501: 公校新制年資 | FU501: 基數 | FW501: 薪額 | FX501: 本薪 | FY501: 年級 | GE501: 勞工保險投保薪資分級表 | GH501: 中華民國九十六年十一月一日行政院勞工委員會勞保2字第0960140443號令修正發布，自九十七年一月一日施行
FA502: 參加儲金薪額 | FB502: =VALUE(LEFT(FB501,3)) -> 330 | FC502: =VLOOKUP($FB$502,salary,2) -> 35010 | FD502: 個人負擔比例 | FE502: 0.35 | FK502: 0 | FL502: 0 | FM502: 0 | FN502: 0 | FO502: 0 | FQ502: 0 | FR502: 0 | FT502: 0 | FU502: =FT502*1.5 -> 0 | FW502: 90 | FX502: 17390 | FY502: 1 | GC502: =CONCATENATE(" ",FW502,"元：",FX502) -> 90元：17390 | GE502: 投保薪 | GF502: 月 薪 資 總 額 | GG502: 月投保薪資 | GI502: 日投保薪資 | GJ502: 月投保薪資 | GK502: 月繳金額
FA503: 本職最高薪額 | FB503: =MAX(FB509,FB502) -> 625 | FC503: =VLOOKUP($FB$503,salary,2) -> 54160 | FD503: 推算退休最後薪額 | FE503: =IF($FB$505+$FC$505=0,$FB$502,MIN(VLOOKUP(VLOOKUP($FB$502,salary,3)+$FB$505+IF(MOD($FC$505,12)<=7,0,1),DC,2),$FB$503)) -> 625 | FF503: =IF($FB$505=0,$FB$502,MIN(VLOOKUP(VLOOKUP($FB$502,salary,3)+$FB$505-IF($FC$505>0,0,1),DC,2),FB503)) -> 625 | FK503: 1 | FL503: =FK503-2/12 -> 0.83333333 | FM503: 0 | FN503: 1 | FO503: =FM503+10*FN503/12 -> 0.83333333 | FQ503: 1 | FR503: 1 | FT503: 1 | FU503: =FT503*1.5 -> 1.5 | FW503: 100 | FX503: 18160 | FY503: 2 | GC503: =CONCATENATE(FW503,"元：",FX503) -> 100元：18160 | GE503: 資等級 | GF503: （實物給付應折現金計算）
FA504: 舊制年資(98.12.31以前年資) | FB504: 9 | FC504: 5 | FD504: 最後本薪 | FE504: =VLOOKUP($FE$503,salary,2) -> 54160 | FK504: 2 | FL504: =FK504-2/12 -> 1.8333333 | FM504: 1 | FN504: 1 | FO504: =FM504+10*FN504/12 -> 1.8333333 | FQ504: 2 | FR504: 3 | FT504: 2 | FU504: =FT504*1.5 -> 3 | FW504: 110 | FX504: 18920 | FY504: 3 | GC504: =CONCATENATE(FW504,"元：",FX504) -> 110元：18920 | GE504: 第 1級 | GF504: １７,２８０元以下 | GG504: １７,２８０元 | GI504: ５７６元 | GJ504: 17280 | GK504: =GJ504*7.5% -> 1296
EW505: ="定期給付： 每年領取金額 = 一次給付金額*0.05。例如：一次給付金額為"&TEXT(FG509,"###,###")&"元，則每年領取金額="&TEXT(FG509,"###,###")&"元*0.05="&TEXT(EY505,"###,###")&"元。 註1：定期給付之計算方式是在設算利率2%，期末領取及領取期間25年等假設下所進行之估算。 註2：本表之試算結果是依所輸入之個人資料及假設計算而得，不代表退休時實際領取金額。 註3：退休金實際領取金額須視實際工作年資、提撥金額、收益率及年金保險商品而定，如需詳細說明，請電洽儲金管理會(02-23962880)。" -> 定期給付： 每年領取金額 = 一次給付金額*0.05。例如：一次給付金額為3,909,355元，則每年領取金額=3,909,355元*0.05=195,468元。 註1：定期給付之計算方式是在設算利率2%，期末領取及領取期間25年等假設下所進行之估算。 註2：本表之試算結果是依所輸入之個人資料及假設計算而得，不代表退休時實際領取金額。 註3：退休金實際領取金額須視實際工作年資、提撥金額、收益率及年金保險商品而定，如需詳細說明，請電洽儲金管理會(02-23962880)。 | EY505: =FG509*FE511 -> 195467.76 | FA505: 預計儲金年資(99.1.1以後年資) | FB505: 20 | FC505: 7 | FD505: 定期給付(年) | FE505: 25 | FK505: 3 | FL505: =FK505-2/12 -> 2.8333333 | FM505: 2 | FN505: 1 | FO505: =FM505+10*FN505/12 -> 2.8333333 | FQ505: 3 | FR505: 5 | FT505: 3 | FU505: =FT505*1.5 -> 4.5 | FW505: 120 | FX505: 19690 | FY505: 4 | GC505: =CONCATENATE(FW505,"元：",FX505) -> 120元：19690 | GE505: 第 2級 | GF505: １７,２８１元至１７,４００元 | GG505: １７,４００元 | GI505: ５８０元 | GJ505: 17400 | GK505: =GJ505*7.5% -> 1305
EY506: =FG509*FE511/12 -> 16288.98 | FA506: 預計年收益率(%) | FB506: 0 | FC506: =FB506/2/100 -> 0 | FD506: 年金保險利率 | FE506: 0.02 | FK506: 4 | FL506: =FK506-2/12 -> 3.8333333 | FM506: 3 | FN506: 1 | FO506: =FM506+10*FN506/12 -> 3.8333333 | FQ506: 4 | FR506: 7 | FT506: 4 | FU506: =FT506*1.5 -> 6 | FW506: 130 | FX506: 20460 | FY506: 5 | GC506: =CONCATENATE(FW506,"元：",FX506) -> 130元：20460 | GE506: 第 3級 | GF506: １７,４０１元至１８,３００元 | GG506: １８,３００元 | GI506: ６１０元 | GJ506: 18300 | GK506: =GJ506*7.5% -> 1372.5
FA507: 提撥率 | FB507: 0.12 | FD507: 目前年度 | FE507: =VLOOKUP($FB$502,salary,3) -> 21 | FK507: 5 | FL507: =FK507-2/12 -> 4.8333333 | FM507: 4 | FN507: 1 | FO507: =FM507+10*FN507/12 -> 4.8333333 | FQ507: 5 | FR507: 9 | FT507: 5 | FU507: =FT507*1.5 -> 7.5 | FW507: 140 | FX507: 21220 | FY507: 6 | GC507: =CONCATENATE(FW507,"元：",FX507) -> 140元：21220 | GE507: 第 4級 | GF507: １８,３０１元至１９,２００元 | GG507: １９,２００元 | GI507: ６４０元 | GJ507: 19200 | GK507: =GJ507*7.5% -> 1440
FA508: 通膨的本俸增加率 | FB508: 0 | FD508: 離退年度 | FE508: =VLOOKUP($FB$502,salary,3)+$FB$505-1 -> 40 | FF508: 項目 | FG508: 金額（新台幣：元） | FK508: 6 | FL508: =FK508-2/12 -> 5.8333333 | FM508: 5 | FN508: 1 | FO508: =FM508+10*FN508/12 -> 5.8333333 | FQ508: 6 | FR508: 11 | FT508: 6 | FU508: =FT508*1.5 -> 9 | FW508: 150 | FX508: 21990 | FY508: 7 | GC508: =CONCATENATE(FW508,"元：",FX508) -> 150元：21990 | GE508: 第 5級 | GF508: １９,２０１元至２０,１００元 | GG508: ２０,１００元 | GI508: ６７０元 | GJ508: 20100 | GK508: =GJ508*7.5% -> 1507.5
FA509: 輸入本職最高薪級 | FB509: =VALUE(LEFT(FB510,3)) -> 625 | FF509: 一次給付 | FG509: =SUM(FG510:FG511) -> 3909355.2 | FI509: 儲金專戶 | FK509: 7 | FL509: =FK509-2/12 -> 6.8333333 | FM509: 6 | FN509: 1 | FO509: =FM509+10*FN509/12 -> 6.8333333 | FQ509: 7 | FR509: 13 | FT509: 7 | FU509: =FT509*1.5 -> 10.5 | FW509: 160 | FX509: 22750 | FY509: 8 | GC509: =CONCATENATE(FW509,"元：",FX509) -> 160元：22750 | GE509: 第 6級 | GF509: ２０,１０１元至２１,０００元 | GG509: ２１,０００元 | GI509: ７００元 | GJ509: 21000 | GK509: =GJ509*7.5% -> 1575
FB510: 625元：54160 | FF510: 舊制部分 | FG510: =($FE$504+930)*(VLOOKUP($FB$504,old_service,2)+ROUNDUP($FC$504/6,0)) -> 991620 | FH510: =IF($FB$505=0,0,VLOOKUP($FE$508,DC,8)-VLOOKUP(FE507-1,DC,8))+VLOOKUP($FE$508+1,DC,5)/12*$FC$505*$FE$502 -> 1021207.3 | FI510: 自提 | FK510: 8 | FL510: =FK510-2/12 -> 7.8333333 | FM510: 7 | FN510: 1 | FO510: =FM510+10*FN510/12 -> 7.8333333 | FQ510: 8 | FR510: 15 | FT510: 8 | FU510: =FT510*1.5 -> 12 | FW510: 170 | FX510: 23520 | FY510: 9 | GC510: =CONCATENATE(FW510,"元：",FX510) -> 170元：23520 | GE510: 第 7級 | GF510: ２１,００１元至２１,９００元 | GG510: ２１,９００元 | GI510: ７３０元 | GJ510: 21900 | GK510: =GJ510*7.5% -> 1642.5
FE511: =ROUND(PMT(FE506,FE505,-1,,1),2) -> 0.05 | FF511: 儲金部分 | FG511: =IF($FB$505=0,0,VLOOKUP($FE$508,DC,7)-VLOOKUP($FE$507-1,DC,7)*(1+$FC$506)^$FB$505)+VLOOKUP($FE$508+1,DC,5)/12*$FC$505 -> 2917735.2 | FH511: =FH510/35*32.5 -> 948263.94 | FI511: 校提 | FK511: 9 | FL511: =FK511-2/12 -> 8.8333333 | FM511: 8 | FN511: 1 | FO511: =FM511+10*FN511/12 -> 8.8333333 | FQ511: 9 | FR511: 17 | FT511: 9 | FU511: =FT511*1.5 -> 13.5 | FW511: 180 | FX511: 24290 | FY511: 10 | GC511: =CONCATENATE(FW511,"元：",FX511) -> 180元：24290 | GE511: 第 8級 | GF511: ２１,９０１元至２２,８００元 | GG511: ２２,８００元 | GI511: ７６０元 | GJ511: 22800 | GK511: =GJ511*7.5% -> 1710
FB512: 高中 | FC512: 大學 | FD512: 年金因子 | FE512: =PMT($FE$506/12,$FE$505*12,-1,,1) -> 0.0042314909 | FF512: 或， | FH512: =FH510/35*32.5 -> 948263.94 | FI512: 公提 | FK512: 10 | FL512: =FK512-2/12 -> 9.8333333 | FM512: 9 | FN512: 1 | FO512: =FM512+10*FN512/12 -> 9.8333333 | FQ512: 10 | FR512: 19 | FT512: 10 | FU512: =FT512*1.5 -> 15 | FW512: 190 | FX512: 25050 | FY512: 11 | GC512: =CONCATENATE(FW512,"元：",FX512) -> 190元：25050 | GE512: 第 9級 | GF512: ２２,８０１元至２４,０００元 | GG512: ２４,０００元 | GI512: ８００元 | GJ512: 24000 | GK512: =GJ512*7.5% -> 1800
FA513: 建議參加儲金薪額 | FB513: =VLOOKUP(MATCH(245, $FB$517:$FB$597)+FB504-1, $FA$517:$FB$597, 2, FALSE) -> 410 | FC513: =VLOOKUP(MATCH(330, $FB$517:$FB$597)+FB504-1, $FA$517:$FB$597, 2, FALSE) -> 525 | FD513: 人工輸入 | FE513: =$FG$509*FE511/12 -> 16288.98 | FF513: 定期給付（月） | FG513: =IF($FB$504+$FC$504/12+$FB$505+$FC$505/12<15,"(未滿15年)",$FE$513) -> 16288.98 | FH513: =MAX(FG511-SUM(FH510:FH512),0) -> 4.6566129e-10 | FI513: 孳息 | FK513: 11 | FL513: =FK513-2/12 -> 10.833333 | FM513: 10 | FN513: 2 | FO513: =FM513+10*FN513/12 -> 11.666667 | FQ513: 11 | FR513: 21 | FT513: 11 | FU513: =FT513*1.5 -> 16.5 | FW513: 200 | FX513: 25820 | FY513: 12 | GC513: =CONCATENATE(FW513,"元：",FX513) -> 200元：25820 | GE513: 第10級 | GF513: ２４,００１元至２５,２００元 | GG513: ２５,２００元 | GI513: ８４０元 | GJ513: 25200 | GK513: =GJ513*7.5% -> 1890
FC514: 9457 | FF514: 說明：定期給付以平均餘命25年，利率2.0%為例。 | FK514: 12 | FL514: =FK514-2/12 -> 11.833333 | FM514: 12 | FN514: 2 | FO514: =FM514+10*FN514/12 -> 13.666667 | FQ514: 12 | FR514: 23 | FT514: 12 | FU514: =FT514*1.5 -> 18 | FW514: 210 | FX514: 26580 | FY514: 13 | GC514: =CONCATENATE(FW514,"元：",FX514) -> 210元：26580 | GE514: 第11級 | GF514: ２５,２０１元至２６,４００元 | GG514: ２６,４００元 | GI514: ８８０元 | GJ514: 26400 | GK514: =GJ514*7.5% -> 1980
FF515: 若擇領終身給付，其年金保險投保費率俟儲金管理會公布。 | FI515: =PMT(2%/12,300,-1,,1) -> 0.0042314909 | FK515: 13 | FL515: =FK515-2/12 -> 12.833333 | FM515: 14 | FN515: 2 | FO515: =FM515+10*FN515/12 -> 15.666667 | FQ515: 13 | FR515: 25 | FT515: 13 | FU515: =FT515*1.5 -> 19.5 | FW515: 220 | FX515: 27350 | FY515: 14 | GC515: =CONCATENATE(FW515,"元：",FX515) -> 220元：27350 | GE515: 第12級 | GF515: ２６,４０１元至２７,６００元 | GG515: ２７,６００元 | GI515: ９２０元 | GJ515: 27600 | GK515: =GJ515*7.5% -> 2070
FA516: 年度 | FB516: 薪額 | FC516: 本薪 | FD516: 通膨調整後薪資 | FE516: 年提撥數 | FF516: 當年當筆收益 | FG516: 私校一次金 | FH516: 個人提撥數 | FK516: 14 | FL516: =FK516-2/12 -> 13.833333 | FM516: 16 | FN516: 2 | FO516: =FM516+10*FN516/12 -> 17.666667 | FQ516: 14 | FR516: 27 | FT516: 14 | FU516: =FT516*1.5 -> 21 | FW516: 230 | FX516: 28120 | FY516: 15 | GC516: =CONCATENATE(FW516,"元：",FX516) -> 230元：28120 | GE516: 第13級 | GF516: ２７,６０１元至２８,８００元 | GG516: ２８,８００元 | GI516: ９６０元 | GJ516: 28800 | GK516: =GJ516*7.5% -> 2160
FA517: 0 | FB517: 0 | FC517: 0 | FD517: 0 | FE517: 0 | FF517: 0 | FG517: 0 | FH517: 0 | FK517: 15 | FL517: =FK517-2/12 -> 14.833333 | FM517: 18 | FN517: 2 | FO517: =FM517+10*FN517/12 -> 19.666667 | FQ517: 15 | FR517: 31 | FT517: 15 | FU517: =FT517*1.5 -> 22.5 | FW517: 245 | FX517: 29270 | FY517: 16 | GC517: =CONCATENATE(FW517,"元：",FX517) -> 245元：29270 | GE517: 第14級 | GF517: ２８,８０１元至３０,３００元 | GG517: ３０,３００元 | GI517: １,０１０元 | GJ517: 30300 | GK517: =GJ517*7.5% -> 2272.5
FA518: 1 | FB518: 90 | FC518: 17390 | FD518: =FC518*(1+$FB$508)^(FA518-1) -> 17390 | FE518: =FD518*2*$FB$507*12 -> 50083.2 | FF518: =FV($FC$506/12,12,-FE518/12,,0)-FE518 -> 0 | FG518: =FE518+FF518 -> 50083.2 | FH518: =SUM(FE$518:FE518)*$FE$502 -> 17529.12 | FK518: 16 | FL518: =FK518-2/12 -> 15.833333 | FM518: 20 | FN518: 3 | FO518: =FM518+10*FN518/12 -> 22.5 | FQ518: 16 | FR518: 33 | FT518: 16 | FU518: =FT518*1.5 -> 24 | FW518: 260 | FX518: 30410 | FY518: 17 | GC518: =CONCATENATE(FW518,"元：",FX518) -> 260元：30410 | GE518: 第15級 | GF518: ３０,３０１元至３１,８００元 | GG518: ３１,８００元 | GI518: １,０６０元 | GJ518: 31800 | GK518: =GJ518*7.5% -> 2385
FA519: 2 | FB519: 100 | FC519: 18160 | FD519: =FC519*(1+$FB$508)^(FA519-1) -> 18160 | FE519: =FD519*2*$FB$507*12 -> 52300.8 | FF519: =FV($FC$506/12,12,-FE519/12,,0)-FE519 -> 0 | FG519: =FG518*(1+$FC$506)+FE519+FF519 -> 102384 | FH519: =SUM(FE$518:FE519)*$FE$502 -> 35834.4 | FK519: 17 | FL519: =FK519-2/12 -> 16.833333 | FM519: 23 | FN519: 3 | FO519: =FM519+10*FN519/12 -> 25.5 | FQ519: 17 | FR519: 35 | FT519: 17 | FU519: =FT519*1.5 -> 25.5 | FW519: 275 | FX519: 31560 | FY519: 18 | GC519: =CONCATENATE(FW519,"元：",FX519) -> 275元：31560 | GE519: 第16級 | GF519: ３１,８０１元至３３,３００元 | GG519: ３３,３００元 | GI519: １,１１０元 | GJ519: 33300 | GK519: =GJ519*7.5% -> 2497.5
FA520: 3 | FB520: 110 | FC520: 18920 | FD520: =FC520*(1+$FB$508)^(FA520-1) -> 18920 | FE520: =FD520*2*$FB$507*12 -> 54489.6 | FF520: =FV($FC$506/12,12,-FE520/12,,0)-FE520 -> 0 | FG520: =FG519*(1+$FC$506)+FE520+FF520 -> 156873.6 | FH520: =SUM(FE$518:FE520)*$FE$502 -> 54905.76 | FK520: 18 | FL520: =FK520-2/12 -> 17.833333 | FM520: 26 | FN520: 3 | FO520: =FM520+10*FN520/12 -> 28.5 | FQ520: 18 | FR520: 37 | FT520: 18 | FU520: =FT520*1.5 -> 27 | FW520: 290 | FX520: 32710 | FY520: 19 | GC520: =CONCATENATE(FW520,"元：",FX520) -> 290元：32710 | GE520: 第17級 | GF520: ３３,３０１元至３４,８００元 | GG520: ３４,８００元 | GI520: １,１６０元 | GJ520: 34800 | GK520: =GJ520*7.5% -> 2610
FA521: 4 | FB521: 120 | FC521: 19690 | FD521: =FC521*(1+$FB$508)^(FA521-1) -> 19690 | FE521: =FD521*2*$FB$507*12 -> 56707.2 | FF521: =FV($FC$506/12,12,-FE521/12,,0)-FE521 -> 0 | FG521: =FG520*(1+$FC$506)+FE521+FF521 -> 213580.8 | FH521: =SUM(FE$518:FE521)*$FE$502 -> 74753.28 | FK521: 19 | FL521: =FK521-2/12 -> 18.833333 | FM521: 29 | FN521: 3 | FO521: =FM521+10*FN521/12 -> 31.5 | FQ521: 19 | FR521: 39 | FT521: 19 | FU521: =FT521*1.5 -> 28.5 | FW521: 310 | FX521: 33860 | FY521: 20 | GC521: =CONCATENATE(FW521,"元：",FX521) -> 310元：33860 | GE521: 第18級 | GF521: ３４,８０１元至３６,３００元 | GG521: ３６,３００元 | GI521: １,２１０元 | GJ521: 36300 | GK521: =GJ521*7.5% -> 2722.5
FA522: 5 | FB522: 130 | FC522: 20460 | FD522: =FC522*(1+$FB$508)^(FA522-1) -> 20460 | FE522: =FD522*2*$FB$507*12 -> 58924.8 | FF522: =FV($FC$506/12,12,-FE522/12,,0)-FE522 -> 0 | FG522: =FG521*(1+$FC$506)+FE522+FF522 -> 272505.6 | FH522: =SUM(FE$518:FE522)*$FE$502 -> 95376.96 | FK522: 20 | FL522: =FK522-2/12 -> 19.833333 | FM522: 32 | FN522: 4 | FO522: =FM522+10*FN522/12 -> 35.333333 | FQ522: 20 | FR522: 41 | FT522: 20 | FU522: =FT522*1.5 -> 30 | FW522: 330 | FX522: 35010 | FY522: 21 | GC522: =CONCATENATE(FW522,"元：",FX522) -> 330元：35010 | GE522: 第19級 | GF522: ３６,３０１元至３８,２００元 | GG522: ３８,２００元 | GI522: １,２７３元 | GJ522: 38200 | GK522: =GJ522*7.5% -> 2865
FA523: 6 | FB523: 140 | FC523: 21220 | FD523: =FC523*(1+$FB$508)^(FA523-1) -> 21220 | FE523: =FD523*2*$FB$507*12 -> 61113.6 | FF523: =FV($FC$506/12,12,-FE523/12,,0)-FE523 -> 0 | FG523: =FG522*(1+$FC$506)+FE523+FF523 -> 333619.2 | FH523: =SUM(FE$518:FE523)*$FE$502 -> 116766.72 | FK523: 21 | FL523: =FK523-2/12 -> 20.833333 | FM523: 36 | FN523: 0 | FO523: =FM523+10*FN523/12 -> 36 | FQ523: 21 | FR523: 43 | FT523: 21 | FU523: =FT523*1.5 -> 31.5 | FW523: 350 | FX523: 36160 | FY523: 22 | GC523: =CONCATENATE(FW523,"元：",FX523) -> 350元：36160 | GE523: 第20級 | GF523: ３８,２０１元至４０,１００元 | GG523: ４０,１００元 | GI523: １,３３７元 | GJ523: 40100 | GK523: =GJ523*7.5% -> 3007.5
FA524: 7 | FB524: 150 | FC524: 21990 | FD524: =FC524*(1+$FB$508)^(FA524-1) -> 21990 | FE524: =FD524*2*$FB$507*12 -> 63331.2 | FF524: =FV($FC$506/12,12,-FE524/12,,0)-FE524 -> 0 | FG524: =FG523*(1+$FC$506)+FE524+FF524 -> 396950.4 | FH524: =SUM(FE$518:FE524)*$FE$502 -> 138932.64 | FK524: 22 | FL524: =FK524-2/12 -> 21.833333 | FM524: 36 | FN524: 0 | FO524: =FM524+10*FN524/12 -> 36 | FQ524: 22 | FR524: 45 | FT524: 22 | FU524: =FT524*1.5 -> 33 | FW524: 370 | FX524: 37310 | FY524: 23 | GC524: =CONCATENATE(FW524,"元：",FX524) -> 370元：37310 | GE524: 第21級 | GF524: ４０,１０１元至４２,０００元 | GG524: ４２,０００元 | GI524: １,４００元 | GJ524: 42000 | GK524: =GJ524*7.5% -> 3150
FA525: 8 | FB525: 160 | FC525: 22750 | FD525: =FC525*(1+$FB$508)^(FA525-1) -> 22750 | FE525: =FD525*2*$FB$507*12 -> 65520 | FF525: =FV($FC$506/12,12,-FE525/12,,0)-FE525 -> 0 | FG525: =FG524*(1+$FC$506)+FE525+FF525 -> 462470.4 | FH525: =SUM(FE$518:FE525)*$FE$502 -> 161864.64 | FK525: 23 | FL525: =FK525-2/12 -> 22.833333 | FM525: 36 | FN525: 0 | FO525: =FM525+10*FN525/12 -> 36 | FQ525: 23 | FR525: 47 | FT525: 23 | FU525: =FT525*1.5 -> 34.5 | FW525: 390 | FX525: 38460 | FY525: 24 | GC525: =CONCATENATE(FW525,"元：",FX525) -> 390元：38460 | GE525: 第22級 | GF525: ４２,００１元以上 | GG525: ４３,９００元 | GI525: １,４６３元 | GJ525: 43900 | GK525: =GJ525*7.5% -> 3292.5
FA526: 9 | FB526: 170 | FC526: 23520 | FD526: =FC526*(1+$FB$508)^(FA526-1) -> 23520 | FE526: =FD526*2*$FB$507*12 -> 67737.6 | FF526: =FV($FC$506/12,12,-FE526/12,,0)-FE526 -> 0 | FG526: =FG525*(1+$FC$506)+FE526+FF526 -> 530208 | FH526: =SUM(FE$518:FE526)*$FE$502 -> 185572.8 | FK526: 24 | FL526: =FK526-2/12 -> 23.833333 | FM526: 36 | FN526: 0 | FO526: =FM526+10*FN526/12 -> 36 | FQ526: 24 | FR526: 49 | FT526: 24 | FU526: =FT526*1.5 -> 36 | FW526: 410 | FX526: 39610 | FY526: 25 | GC526: =CONCATENATE(FW526,"元：",FX526) -> 410元：39610
FA527: 10 | FB527: 180 | FC527: 24290 | FD527: =FC527*(1+$FB$508)^(FA527-1) -> 24290 | FE527: =FD527*2*$FB$507*12 -> 69955.2 | FF527: =FV($FC$506/12,12,-FE527/12,,0)-FE527 -> 0 | FG527: =FG526*(1+$FC$506)+FE527+FF527 -> 600163.2 | FH527: =SUM(FE$518:FE527)*$FE$502 -> 210057.12 | FK527: 25 | FL527: =FK527-2/12 -> 24.833333 | FM527: 36 | FN527: 0 | FO527: =FM527+10*FN527/12 -> 36 | FQ527: 25 | FR527: 51 | FT527: 25 | FU527: =FT527*1.5 -> 37.5 | FW527: 430 | FX527: 40760 | FY527: 26 | GC527: =CONCATENATE(FW527,"元：",FX527) -> 430元：40760
FA528: 11 | FB528: 190 | FC528: 25050 | FD528: =FC528*(1+$FB$508)^(FA528-1) -> 25050 | FE528: =FD528*2*$FB$507*12 -> 72144 | FF528: =FV($FC$506/12,12,-FE528/12,,0)-FE528 -> 0 | FG528: =FG527*(1+$FC$506)+FE528+FF528 -> 672307.2 | FH528: =SUM(FE$518:FE528)*$FE$502 -> 235307.52 | FK528: 26 | FL528: =FK528-2/12 -> 25.833333 | FM528: 36 | FN528: 0 | FO528: =FM528+10*FN528/12 -> 36 | FQ528: 26 | FR528: 53 | FT528: 26 | FU528: =FT528*1.5 -> 39 | FW528: 450 | FX528: 41900 | FY528: 27 | GC528: =CONCATENATE(FW528,"元：",FX528) -> 450元：41900
FA529: 12 | FB529: 200 | FC529: 25820 | FD529: =FC529*(1+$FB$508)^(FA529-1) -> 25820 | FE529: =FD529*2*$FB$507*12 -> 74361.6 | FF529: =FV($FC$506/12,12,-FE529/12,,0)-FE529 -> 0 | FG529: =FG528*(1+$FC$506)+FE529+FF529 -> 746668.8 | FH529: =SUM(FE$518:FE529)*$FE$502 -> 261334.08 | FK529: 27 | FL529: =FK529-2/12 -> 26.833333 | FM529: 36 | FN529: 0 | FO529: =FM529+10*FN529/12 -> 36 | FQ529: 27 | FR529: 55 | FT529: 27 | FU529: =FT529*1.5 -> 40.5 | FW529: 475 | FX529: 44970 | FY529: 28 | GC529: =CONCATENATE(FW529,"元：",FX529) -> 475元：44970
FA530: 13 | FB530: 210 | FC530: 26580 | FD530: =FC530*(1+$FB$508)^(FA530-1) -> 26580 | FE530: =FD530*2*$FB$507*12 -> 76550.4 | FF530: =FV($FC$506/12,12,-FE530/12,,0)-FE530 -> 0 | FG530: =FG529*(1+$FC$506)+FE530+FF530 -> 823219.2 | FH530: =SUM(FE$518:FE530)*$FE$502 -> 288126.72 | FK530: 28 | FL530: =FK530-2/12 -> 27.833333 | FM530: 36 | FN530: 0 | FO530: =FM530+10*FN530/12 -> 36 | FQ530: 28 | FR530: 57 | FT530: 28 | FU530: =FT530*1.5 -> 42 | FW530: 500 | FX530: 46500 | FY530: 29 | GC530: =CONCATENATE(FW530,"元：",FX530) -> 500元：46500
FA531: 14 | FB531: 220 | FC531: 27350 | FD531: =FC531*(1+$FB$508)^(FA531-1) -> 27350 | FE531: =FD531*2*$FB$507*12 -> 78768 | FF531: =FV($FC$506/12,12,-FE531/12,,0)-FE531 -> 0 | FG531: =FG530*(1+$FC$506)+FE531+FF531 -> 901987.2 | FH531: =SUM(FE$518:FE531)*$FE$502 -> 315695.52 | FK531: 29 | FL531: =FK531-2/12 -> 28.833333 | FM531: 36 | FN531: 0 | FO531: =FM531+10*FN531/12 -> 36 | FQ531: 29 | FR531: 59 | FT531: 29 | FU531: =FT531*1.5 -> 43.5 | FW531: 525 | FX531: 48030 | FY531: 30 | GC531: =CONCATENATE(FW531,"元：",FX531) -> 525元：48030
FA532: 15 | FB532: 230 | FC532: 28120 | FD532: =FC532*(1+$FB$508)^(FA532-1) -> 28120 | FE532: =FD532*2*$FB$507*12 -> 80985.6 | FF532: =FV($FC$506/12,12,-FE532/12,,0)-FE532 -> 0 | FG532: =FG531*(1+$FC$506)+FE532+FF532 -> 982972.8 | FH532: =SUM(FE$518:FE532)*$FE$502 -> 344040.48 | FK532: 30 | FL532: =FK532-2/12 -> 29.833333 | FM532: 36 | FN532: 0 | FO532: =FM532+10*FN532/12 -> 36 | FQ532: 30 | FR532: 61 | FT532: 30 | FU532: =FT532*1.5 -> 45 | FW532: 550 | FX532: 49560 | FY532: 31 | GC532: =CONCATENATE(FW532,"元：",FX532) -> 550元：49560
FA533: 16 | FB533: 245 | FC533: 29270 | FD533: =FC533*(1+$FB$508)^(FA533-1) -> 29270 | FE533: =FD533*2*$FB$507*12 -> 84297.6 | FF533: =FV($FC$506/12,12,-FE533/12,,0)-FE533 -> 0 | FG533: =FG532*(1+$FC$506)+FE533+FF533 -> 1067270.4 | FH533: =SUM(FE$518:FE533)*$FE$502 -> 373544.64 | FK533: 31 | FL533: =FK533-2/12 -> 30.833333 | FM533: 36 | FN533: 0 | FO533: =FM533+10*FN533/12 -> 36 | FQ533: 31 | FR533: 63 | FT533: 31 | FU533: =FT533*1.5 -> 46.5 | FW533: 575 | FX533: 51100 | FY533: 32 | GC533: =CONCATENATE(FW533,"元：",FX533) -> 575元：51100
FA534: 17 | FB534: 260 | FC534: 30410 | FD534: =FC534*(1+$FB$508)^(FA534-1) -> 30410 | FE534: =FD534*2*$FB$507*12 -> 87580.8 | FF534: =FV($FC$506/12,12,-FE534/12,,0)-FE534 -> 0 | FG534: =FG533*(1+$FC$506)+FE534+FF534 -> 1154851.2 | FH534: =SUM(FE$518:FE534)*$FE$502 -> 404197.92 | FK534: 32 | FL534: =FK534-2/12 -> 31.833333 | FM534: 36 | FN534: 0 | FO534: =FM534+10*FN534/12 -> 36 | FQ534: 32 | FR534: 65 | FT534: 32 | FU534: =FT534*1.5 -> 48 | FW534: 600 | FX534: 52630 | FY534: 33 | GC534: =CONCATENATE(FW534,"元：",FX534) -> 600元：52630
FA535: 18 | FB535: 275 | FC535: 31560 | FD535: =FC535*(1+$FB$508)^(FA535-1) -> 31560 | FE535: =FD535*2*$FB$507*12 -> 90892.8 | FF535: =FV($FC$506/12,12,-FE535/12,,0)-FE535 -> 0 | FG535: =FG534*(1+$FC$506)+FE535+FF535 -> 1245744 | FH535: =SUM(FE$518:FE535)*$FE$502 -> 436010.4 | FK535: 33 | FL535: =FK535-2/12 -> 32.833333 | FM535: 36 | FN535: 0 | FO535: =FM535+10*FN535/12 -> 36 | FQ535: 33 | FR535: 67 | FT535: 33 | FU535: =FT535*1.5 -> 49.5 | FW535: 625 | FX535: 54160 | FY535: 34 | GC535: =CONCATENATE(FW535,"元：",FX535) -> 625元：54160
FA536: 19 | FB536: 290 | FC536: 32710 | FD536: =FC536*(1+$FB$508)^(FA536-1) -> 32710 | FE536: =FD536*2*$FB$507*12 -> 94204.8 | FF536: =FV($FC$506/12,12,-FE536/12,,0)-FE536 -> 0 | FG536: =FG535*(1+$FC$506)+FE536+FF536 -> 1339948.8 | FH536: =SUM(FE$518:FE536)*$FE$502 -> 468982.08 | FK536: 34 | FL536: =FK536-2/12 -> 33.833333 | FM536: 36 | FN536: 0 | FO536: =FM536+10*FN536/12 -> 36 | FQ536: 34 | FR536: 69 | FT536: 34 | FU536: =FT536*1.5 -> 51 | FW536: 650 | FX536: 55690 | FY536: 35 | GC536: =CONCATENATE(FW536,"元：",FX536) -> 650元：55690
FA537: 20 | FB537: 310 | FC537: 33860 | FD537: =FC537*(1+$FB$508)^(FA537-1) -> 33860 | FE537: =FD537*2*$FB$507*12 -> 97516.8 | FF537: =FV($FC$506/12,12,-FE537/12,,0)-FE537 -> 0 | FG537: =FG536*(1+$FC$506)+FE537+FF537 -> 1437465.6 | FH537: =SUM(FE$518:FE537)*$FE$502 -> 503112.96 | FK537: 35 | FL537: =FK537-2/12 -> 34.833333 | FM537: 36 | FN537: 0 | FO537: =FM537+10*FN537/12 -> 36 | FQ537: 35 | FR537: 71 | FT537: 35 | FU537: =FT537*1.5+0.5 -> 53 | FW537: 680 | FX537: 57220 | FY537: 36 | GC537: =CONCATENATE(FW537,"元：",FX537) -> 680元：57220
FA538: 21 | FB538: 330 | FC538: 35010 | FD538: =FC538*(1+$FB$508)^(FA538-1) -> 35010 | FE538: =FD538*2*$FB$507*12 -> 100828.8 | FF538: =FV($FC$506/12,12,-FE538/12,,0)-FE538 -> 0 | FG538: =FG537*(1+$FC$506)+FE538+FF538 -> 1538294.4 | FH538: =SUM(FE$518:FE538)*$FE$502 -> 538403.04 | FK538: 36 | FL538: =FK538-2/12 -> 35.833333 | FM538: 36 | FN538: 0 | FO538: =FM538+10*FN538/12 -> 36 | FQ538: 36 | FR538: 73 | FT538: 36 | FU538: =FT538*1.5+0.5 -> 54.5 | FW538: 710 | FX538: 59520 | FY538: 37 | GC538: =CONCATENATE(FW538,"元：",FX538) -> 710元：59520
FA539: 22 | FB539: 350 | FC539: 36160 | FD539: =FC539*(1+$FB$508)^(FA539-1) -> 36160 | FE539: =FD539*2*$FB$507*12 -> 104140.8 | FF539: =FV($FC$506/12,12,-FE539/12,,0)-FE539 -> 0 | FG539: =FG538*(1+$FC$506)+FE539+FF539 -> 1642435.2 | FH539: =SUM(FE$518:FE539)*$FE$502 -> 574852.32 | FK539: 37 | FL539: =FK539-2/12 -> 36.833333 | FM539: 36 | FN539: 0 | FO539: =FM539+10*FN539/12 -> 36 | FQ539: 37 | FR539: 75 | FT539: 37 | FU539: =FT539*1.5+0.5 -> 56 | FW539: 740 | FX539: 60290 | FY539: 38 | GC539: =CONCATENATE(FW539,"元：",FX539) -> 740元：60290
FA540: 23 | FB540: 370 | FC540: 37310 | FD540: =FC540*(1+$FB$508)^(FA540-1) -> 37310 | FE540: =FD540*2*$FB$507*12 -> 107452.8 | FF540: =FV($FC$506/12,12,-FE540/12,,0)-FE540 -> 0 | FG540: =FG539*(1+$FC$506)+FE540+FF540 -> 1749888 | FH540: =SUM(FE$518:FE540)*$FE$502 -> 612460.8 | FK540: 38 | FL540: =FK540-2/12 -> 37.833333 | FM540: 36 | FN540: 0 | FO540: =FM540+10*FN540/12 -> 36 | FQ540: 38 | FR540: 77 | FT540: 38 | FU540: =FT540*1.5+0.5 -> 57.5 | FW540: 770 | FX540: 63570 | FY540: 39 | GC540: =CONCATENATE(FW540,"元：",FX540) -> 770元：63570
FA541: 24 | FB541: 390 | FC541: 38460 | FD541: =FC541*(1+$FB$508)^(FA541-1) -> 38460 | FE541: =FD541*2*$FB$507*12 -> 110764.8 | FF541: =FV($FC$506/12,12,-FE541/12,,0)-FE541 -> 0 | FG541: =FG540*(1+$FC$506)+FE541+FF541 -> 1860652.8 | FH541: =SUM(FE$518:FE541)*$FE$502 -> 651228.48 | FK541: 39 | FL541: =FK541-2/12 -> 38.833333 | FM541: 36 | FN541: 0 | FO541: =FM541+10*FN541/12 -> 36 | FQ541: 39 | FR541: 79 | FT541: 39 | FU541: =FT541*1.5+0.5 -> 59 | FW541: 770 | FX541: 63570 | FY541: 40
FA542: 25 | FB542: 410 | FC542: 39610 | FD542: =FC542*(1+$FB$508)^(FA542-1) -> 39610 | FE542: =FD542*2*$FB$507*12 -> 114076.8 | FF542: =FV($FC$506/12,12,-FE542/12,,0)-FE542 -> 0 | FG542: =FG541*(1+$FC$506)+FE542+FF542 -> 1974729.6 | FH542: =SUM(FE$518:FE542)*$FE$502 -> 691155.36 | FK542: 40 | FL542: =FK542-2/12 -> 39.833333 | FM542: 36 | FN542: 0 | FO542: =FM542+10*FN542/12 -> 36 | FQ542: 40 | FR542: 81 | FT542: 40 | FU542: =FT542*1.5 -> 60 | FW542: 770 | FX542: 63570 | FY542: 40
FA543: 26 | FB543: 430 | FC543: 40760 | FD543: =FC543*(1+$FB$508)^(FA543-1) -> 40760 | FE543: =FD543*2*$FB$507*12 -> 117388.8 | FF543: =FV($FC$506/12,12,-FE543/12,,0)-FE543 -> 0 | FG543: =FG542*(1+$FC$506)+FE543+FF543 -> 2092118.4 | FH543: =SUM(FE$518:FE543)*$FE$502 -> 732241.44 | FW543: 770 | FX543: 63570 | FY543: 40
FA544: 27 | FB544: 450 | FC544: 41900 | FD544: =FC544*(1+$FB$508)^(FA544-1) -> 41900 | FE544: =FD544*2*$FB$507*12 -> 120672 | FF544: =FV($FC$506/12,12,-FE544/12,,0)-FE544 -> 0 | FG544: =FG543*(1+$FC$506)+FE544+FF544 -> 2212790.4 | FH544: =SUM(FE$518:FE544)*$FE$502 -> 774476.64 | FW544: 770 | FX544: 63570 | FY544: 40
FA545: 28 | FB545: 475 | FC545: 44970 | FD545: =FC545*(1+$FB$508)^(FA545-1) -> 44970 | FE545: =FD545*2*$FB$507*12 -> 129513.6 | FF545: =FV($FC$506/12,12,-FE545/12,,0)-FE545 -> 0 | FG545: =FG544*(1+$FC$506)+FE545+FF545 -> 2342304 | FH545: =SUM(FE$518:FE545)*$FE$502 -> 819806.4 | FW545: 770 | FX545: 63570 | FY545: 40
FA546: 29 | FB546: 500 | FC546: 46500 | FD546: =FC546*(1+$FB$508)^(FA546-1) -> 46500 | FE546: =FD546*2*$FB$507*12 -> 133920 | FF546: =FV($FC$506/12,12,-FE546/12,,0)-FE546 -> 0 | FG546: =FG545*(1+$FC$506)+FE546+FF546 -> 2476224 | FH546: =SUM(FE$518:FE546)*$FE$502 -> 866678.4 | FW546: 770 | FX546: 63570 | FY546: 40
FA547: 30 | FB547: 525 | FC547: 48030 | FD547: =FC547*(1+$FB$508)^(FA547-1) -> 48030 | FE547: =FD547*2*$FB$507*12 -> 138326.4 | FF547: =FV($FC$506/12,12,-FE547/12,,0)-FE547 -> 0 | FG547: =FG546*(1+$FC$506)+FE547+FF547 -> 2614550.4 | FH547: =SUM(FE$518:FE547)*$FE$502 -> 915092.64 | FW547: 770 | FX547: 63570 | FY547: 40
FA548: 31 | FB548: 550 | FC548: 49560 | FD548: =FC548*(1+$FB$508)^(FA548-1) -> 49560 | FE548: =FD548*2*$FB$507*12 -> 142732.8 | FF548: =FV($FC$506/12,12,-FE548/12,,0)-FE548 -> 0 | FG548: =FG547*(1+$FC$506)+FE548+FF548 -> 2757283.2 | FH548: =SUM(FE$518:FE548)*$FE$502 -> 965049.12 | FW548: 770 | FX548: 63570 | FY548: 40
FA549: 32 | FB549: 575 | FC549: 51100 | FD549: =FC549*(1+$FB$508)^(FA549-1) -> 51100 | FE549: =FD549*2*$FB$507*12 -> 147168 | FF549: =FV($FC$506/12,12,-FE549/12,,0)-FE549 -> 0 | FG549: =FG548*(1+$FC$506)+FE549+FF549 -> 2904451.2 | FH549: =SUM(FE$518:FE549)*$FE$502 -> 1016557.9 | FW549: 770 | FX549: 63570 | FY549: 40
FA550: 33 | FB550: 600 | FC550: 52630 | FD550: =FC550*(1+$FB$508)^(FA550-1) -> 52630 | FE550: =FD550*2*$FB$507*12 -> 151574.4 | FF550: =FV($FC$506/12,12,-FE550/12,,0)-FE550 -> 0 | FG550: =FG549*(1+$FC$506)+FE550+FF550 -> 3056025.6 | FH550: =SUM(FE$518:FE550)*$FE$502 -> 1069609 | FW550: 770 | FX550: 63570 | FY550: 40
FA551: 34 | FB551: 625 | FC551: 54160 | FD551: =FC551*(1+$FB$508)^(FA551-1) -> 54160 | FE551: =FD551*2*$FB$507*12 -> 155980.8 | FF551: =FV($FC$506/12,12,-FE551/12,,0)-FE551 -> 0 | FG551: =FG550*(1+$FC$506)+FE551+FF551 -> 3212006.4 | FH551: =SUM(FE$518:FE551)*$FE$502 -> 1124202.2 | FW551: 770 | FX551: 63570 | FY551: 40
FA552: 35 | FB552: 650 | FC552: 55690 | FD552: =FC552*(1+$FB$508)^(FA552-1) -> 55690 | FE552: =FD552*2*$FB$507*12 -> 160387.2 | FF552: =FV($FC$506/12,12,-FE552/12,,0)-FE552 -> 0 | FG552: =FG551*(1+$FC$506)+FE552+FF552 -> 3372393.6 | FH552: =SUM(FE$518:FE552)*$FE$502 -> 1180337.8 | FW552: 770 | FX552: 63570 | FY552: 40
FA553: 36 | FB553: 680 | FC553: 57220 | FD553: =FC553*(1+$FB$508)^(FA553-1) -> 57220 | FE553: =FD553*2*$FB$507*12 -> 164793.6 | FF553: =FV($FC$506/12,12,-FE553/12,,0)-FE553 -> 0 | FG553: =FG552*(1+$FC$506)+FE553+FF553 -> 3537187.2 | FH553: =SUM(FE$518:FE553)*$FE$502 -> 1238015.5 | FW553: 770 | FX553: 63570 | FY553: 40
FA554: 37 | FB554: 710 | FC554: 59520 | FD554: =FC554*(1+$FB$508)^(FA554-1) -> 59520 | FE554: =FD554*2*$FB$507*12 -> 171417.6 | FF554: =FV($FC$506/12,12,-FE554/12,,0)-FE554 -> 0 | FG554: =FG553*(1+$FC$506)+FE554+FF554 -> 3708604.8 | FH554: =SUM(FE$518:FE554)*$FE$502 -> 1298011.7 | FW554: 770 | FX554: 63570 | FY554: 40
... FA581: 64 | FB581: 770 | FC581: 63570 | FD581: =FC581*(1+$FB$508)^(FA581-1) -> 63570 | FE581: =FD581*2*$FB$507*12 -> 183081.6 | FF581: =FV($FC$506/12,12,-FE581/12,,0)-FE581 -> 0 | FG581: =FG580*(1+$FC$506)+FE581+FF581 -> 8642361.6 | FH581: =SUM(FE$518:FE581)*$FE$502 -> 3024826.6 | FW581: 770 | FX581: 63570 | FY581: 40
FA582: 65 | FB582: 770 | FC582: 63570 | FD582: =FC582*(1+$FB$508)^(FA582-1) -> 63570 | FE582: =FD582*2*$FB$507*12 -> 183081.6 | FF582: =FV($FC$506/12,12,-FE582/12,,0)-FE582 -> 0 | FG582: =FG581*(1+$FC$506)+FE582+FF582 -> 8825443.2 | FH582: =SUM(FE$518:FE582)*$FE$502 -> 3088905.1
FA583: 66 | FB583: 770 | FC583: 63570 | FD583: =FC583*(1+$FB$508)^(FA583-1) -> 63570 | FE583: =FD583*2*$FB$507*12 -> 183081.6 | FF583: =FV($FC$506/12,12,-FE583/12,,0)-FE583 -> 0 | FG583: =FG582*(1+$FC$506)+FE583+FF583 -> 9008524.8 | FH583: =SUM(FE$518:FE583)*$FE$502 -> 3152983.7
FA584: 67 | FB584: 770 | FC584: 63570 | FD584: =FC584*(1+$FB$508)^(FA584-1) -> 63570 | FE584: =FD584*2*$FB$507*12 -> 183081.6 | FF584: =FV($FC$506/12,12,-FE584/12,,0)-FE584 -> 0 | FG584: =FG583*(1+$FC$506)+FE584+FF584 -> 9191606.4 | FH584: =SUM(FE$518:FE584)*$FE$502 -> 3217062.2
FA585: 68 | FB585: 770 | FC585: 63570 | FD585: =FC585*(1+$FB$508)^(FA585-1) -> 63570 | FE585: =FD585*2*$FB$507*12 -> 183081.6 | FF585: =FV($FC$506/12,12,-FE585/12,,0)-FE585 -> 0 | FG585: =FG584*(1+$FC$506)+FE585+FF585 -> 9374688 | FH585: =SUM(FE$518:FE585)*$FE$502 -> 3281140.8
FA586: 69 | FB586: 770 | FC586: 63570 | FD586: =FC586*(1+$FB$508)^(FA586-1) -> 63570 | FE586: =FD586*2*$FB$507*12 -> 183081.6 | FF586: =FV($FC$506/12,12,-FE586/12,,0)-FE586 -> 0 | FG586: =FG585*(1+$FC$506)+FE586+FF586 -> 9557769.6 | FH586: =SUM(FE$518:FE586)*$FE$502 -> 3345219.4
FA587: 70 | FB587: 770 | FC587: 63570 | FD587: =FC587*(1+$FB$508)^(FA587-1) -> 63570 | FE587: =FD587*2*$FB$507*12 -> 183081.6 | FF587: =FV($FC$506/12,12,-FE587/12,,0)-FE587 -> 0 | FG587: =FG586*(1+$FC$506)+FE587+FF587 -> 9740851.2 | FH587: =SUM(FE$518:FE587)*$FE$502 -> 3409297.9
FA588: 71 | FB588: 770 | FC588: 63570 | FD588: =FC588*(1+$FB$508)^(FA588-1) -> 63570 | FE588: =FD588*2*$FB$507*12 -> 183081.6 | FF588: =FV($FC$506/12,12,-FE588/12,,0)-FE588 -> 0 | FG588: =FG587*(1+$FC$506)+FE588+FF588 -> 9923932.8 | FH588: =SUM(FE$518:FE588)*$FE$502 -> 3473376.5
FA589: 72 | FB589: 770 | FC589: 63570 | FD589: =FC589*(1+$FB$508)^(FA589-1) -> 63570 | FE589: =FD589*2*$FB$507*12 -> 183081.6 | FF589: =FV($FC$506/12,12,-FE589/12,,0)-FE589 -> 0 | FG589: =FG588*(1+$FC$506)+FE589+FF589 -> 10107014 | FH589: =SUM(FE$518:FE589)*$FE$502 -> 3537455
FA590: 73 | FB590: 770 | FC590: 63570 | FD590: =FC590*(1+$FB$508)^(FA590-1) -> 63570 | FE590: =FD590*2*$FB$507*12 -> 183081.6 | FF590: =FV($FC$506/12,12,-FE590/12,,0)-FE590 -> 0 | FG590: =FG589*(1+$FC$506)+FE590+FF590 -> 10290096 | FH590: =SUM(FE$518:FE590)*$FE$502 -> 3601533.6
FA591: 74 | FB591: 770 | FC591: 63570 | FD591: =FC591*(1+$FB$508)^(FA591-1) -> 63570 | FE591: =FD591*2*$FB$507*12 -> 183081.6 | FF591: =FV($FC$506/12,12,-FE591/12,,0)-FE591 -> 0 | FG591: =FG590*(1+$FC$506)+FE591+FF591 -> 10473178 | FH591: =SUM(FE$518:FE591)*$FE$502 -> 3665612.2
FA592: 75 | FB592: 770 | FC592: 63570 | FD592: =FC592*(1+$FB$508)^(FA592-1) -> 63570 | FE592: =FD592*2*$FB$507*12 -> 183081.6 | FF592: =FV($FC$506/12,12,-FE592/12,,0)-FE592 -> 0 | FG592: =FG591*(1+$FC$506)+FE592+FF592 -> 10656259 | FH592: =SUM(FE$518:FE592)*$FE$502 -> 3729690.7
FA593: 76 | FB593: 770 | FC593: 63570 | FD593: =FC593*(1+$FB$508)^(FA593-1) -> 63570 | FE593: =FD593*2*$FB$507*12 -> 183081.6 | FF593: =FV($FC$506/12,12,-FE593/12,,0)-FE593 -> 0 | FG593: =FG592*(1+$FC$506)+FE593+FF593 -> 10839341 | FH593: =SUM(FE$518:FE593)*$FE$502 -> 3793769.3
... FA597: 80 | FB597: 770 | FC597: 63570 | FD597: =FC597*(1+$FB$508)^(FA597-1) -> 63570 | FE597: =FD597*2*$FB$507*12 -> 183081.6 | FF597: =FV($FC$506/12,12,-FE597/12,,0)-FE597 -> 0 | FG597: =FG596*(1+$FC$506)+FE597+FF597 -> 11571667 | FH597: =SUM(FE$518:FE597)*$FE$502 -> 4050083.5
